BEGIN:VCALENDAR
VERSION:2.0
PRODID:-//Visual, Media, and Performing Arts - ECPv6.15.20//NONSGML v1.0//EN
CALSCALE:GREGORIAN
METHOD:PUBLISH
X-ORIGINAL-URL:https://vmpa.camden.rutgers.edu
X-WR-CALDESC:Events for Visual, Media, and Performing Arts
REFRESH-INTERVAL;VALUE=DURATION:PT1H
X-Robots-Tag:noindex
X-PUBLISHED-TTL:PT1H
BEGIN:VTIMEZONE
TZID:America/New_York
BEGIN:DAYLIGHT
TZOFFSETFROM:-0500
TZOFFSETTO:-0400
TZNAME:EDT
DTSTART:20240310T070000
END:DAYLIGHT
BEGIN:STANDARD
TZOFFSETFROM:-0400
TZOFFSETTO:-0500
TZNAME:EST
DTSTART:20241103T060000
END:STANDARD
BEGIN:DAYLIGHT
TZOFFSETFROM:-0500
TZOFFSETTO:-0400
TZNAME:EDT
DTSTART:20250309T070000
END:DAYLIGHT
BEGIN:STANDARD
TZOFFSETFROM:-0400
TZOFFSETTO:-0500
TZNAME:EST
DTSTART:20251102T060000
END:STANDARD
BEGIN:DAYLIGHT
TZOFFSETFROM:-0500
TZOFFSETTO:-0400
TZNAME:EDT
DTSTART:20260308T070000
END:DAYLIGHT
BEGIN:STANDARD
TZOFFSETFROM:-0400
TZOFFSETTO:-0500
TZNAME:EST
DTSTART:20261101T060000
END:STANDARD
END:VTIMEZONE
BEGIN:VEVENT
DTSTART;VALUE=DATE:20250918
DTEND;VALUE=DATE:20251214
DTSTAMP:20260424T222321
CREATED:20250910T145105Z
LAST-MODIFIED:20250910T145105Z
UID:162601-1758153600-1765670399@vmpa.camden.rutgers.edu
SUMMARY:Exhibition: Reynier Llanes: Pursuit of Grace
DESCRIPTION:Reynier Llanes’ paintings of imagined landscapes engage visual metaphors that explore personal\, cultural\, environmental\, and social inquiries. Through these subjects\, he asks philosophical questions about time and human experience. His work reminds us that discomfort is a necessary companion on the path to a hopeful and graceful future.  \nThis exhibition features previous works from 2017 through 2024 as well as new works created for this exhibition at Rutgers—Camden. \nAbout the artist: Born in Pinar del Rio\, Cuba in 1985. He attended the city’s school of art (Instructores de Arte) for four years and completed his studies in 2004. In 2012 Oxford America recognized him as one of the “New Superstars of Southern Art.” Llanes relocated with his family to Miami in 2015 in order to take advantage of the city’s international art market and vibrant cultural life and to be closer to his home country. His work is represented by prestigious institutions like Harmon Meek Gallery in Naples\, FL\, featured in public collections like the Denver Art Museum and presented at The Butler Institute of American Art\, the Polk Musuem of Art\, among many others. For the years to come\, Reynier would continue to work with institutions and communities in a series of projects focused on exploring the diverse sides of human nature and his exploration of art mediums and techniques. \n  \nGallery Hours\, Monday – Saturday\, 10:00 – 5:00\, free and open to the public \n 
URL:https://vmpa.camden.rutgers.edu/event/exhibition-reynier-llanes-pursuit-of-grace/
LOCATION:Stedman Gallery\, 314 Linden Street\, Camden\, NJ\, 08102\, United States
CATEGORIES:Exhibition
END:VEVENT
BEGIN:VEVENT
DTSTART;TZID=America/New_York:20251201T113000
DTEND;TZID=America/New_York:20251201T123000
DTSTAMP:20260424T222321
CREATED:20250909T152814Z
LAST-MODIFIED:20250909T152814Z
UID:162564-1764588600-1764592200@vmpa.camden.rutgers.edu
SUMMARY:ZoomOnArt – Jenny Jaramillo
DESCRIPTION:The Rutgers–Camden Department of Visual\, Media\, and Performing Arts becomes a central hub for interactive\, online conversations with nationally and internationally renowned artists during its ZoomOnArt program. \nRegister Now!
URL:https://vmpa.camden.rutgers.edu/event/zoomonart-jenny-jaramillo/
LOCATION:online\, Virtual\, Virtual\, NJ\, United States
CATEGORIES:Lecture
END:VEVENT
BEGIN:VEVENT
DTSTART;TZID=America/New_York:20251203T112000
DTEND;TZID=America/New_York:20251203T122000
DTSTAMP:20260424T222321
CREATED:20250909T161917Z
LAST-MODIFIED:20250909T161917Z
UID:162592-1764760800-1764764400@vmpa.camden.rutgers.edu
SUMMARY:Mallery Concert Series – Yuliya Basis\, piano\, Andrii Didorenko\, violin
DESCRIPTION:Dr. Joseph C. Schiavo\, Artistic Director\nWednesdays during free period\, 11:20 am – 12:20 pm\, Room FA-224\nAll Concerts are held in the Mallery Room in the Fine Arts Building.\nLive streaming is available during the times of performances:http://rcit.rutgers.edu/av-request/live/mallery-room
URL:https://vmpa.camden.rutgers.edu/event/mallery-concert-series-yuliya-basis-piano-andrii-didorenko-violin/
LOCATION:Mallery Room\, FA-224\, 314 Linden Street\, Camden\, 08102\, United States
CATEGORIES:Concert
END:VEVENT
BEGIN:VEVENT
DTSTART;TZID=America/New_York:20251204T193000
DTEND;TZID=America/New_York:20251204T213000
DTSTAMP:20260424T222321
CREATED:20251021T155334Z
LAST-MODIFIED:20251113T182206Z
UID:162841-1764876600-1764883800@vmpa.camden.rutgers.edu
SUMMARY:The Student–Directed One–Act Play Festival
DESCRIPTION:Cover directed by Logan Rodriguez\nLawyers\, Guns\, and Money directed by Aubree House\nTape directed by Tyler Strickland\nThe Man Who Couldn’t Dance directed by Samira Robinson\nThis Property Is Condemned directed by Michael Cramer\nBlind directed by Jenna German\n\nA variety of comedy and drama in compact form takes the stage as student directors and actors collaborate on this series of short plays.\n Reserve Tickets!
URL:https://vmpa.camden.rutgers.edu/event/the-student-directed-one-act-play-festival-5/
LOCATION:Walter K. Gordon Theater\, 314 Linden Street\, Camden\, NJ\, 08102\, United States
CATEGORIES:Theater Productions
END:VEVENT
BEGIN:VEVENT
DTSTART;TZID=America/New_York:20251205T193000
DTEND;TZID=America/New_York:20251205T213000
DTSTAMP:20260424T222321
CREATED:20251021T155744Z
LAST-MODIFIED:20251113T182134Z
UID:162844-1764963000-1764970200@vmpa.camden.rutgers.edu
SUMMARY:The Student–Directed One–Act Play Festival
DESCRIPTION:Cover directed by Logan Rodriguez\nLawyers\, Guns\, and Money directed by Aubree House\nTape directed by Tyler Strickland\nThe Man Who Couldn’t Dance directed by Samira Robinson\nThis Property Is Condemned directed by Michael Cramer\nBlind directed by Jenna German\n\nA variety of comedy and drama in compact form takes the stage as student directors and actors collaborate on this series of short plays.\n Reserve Tickets!
URL:https://vmpa.camden.rutgers.edu/event/the-student-directed-one-act-play-festival-6/
LOCATION:Walter K. Gordon Theater\, 314 Linden Street\, Camden\, NJ\, 08102\, United States
CATEGORIES:Theater Productions
END:VEVENT
BEGIN:VEVENT
DTSTART;TZID=America/New_York:20251206T193000
DTEND;TZID=America/New_York:20251206T213000
DTSTAMP:20260424T222321
CREATED:20251021T155925Z
LAST-MODIFIED:20251113T182247Z
UID:162846-1765049400-1765056600@vmpa.camden.rutgers.edu
SUMMARY:The Student–Directed One–Act Play Festival
DESCRIPTION:Cover directed by Logan Rodriguez\nLawyers\, Guns\, and Money directed by Aubree House\nTape directed by Tyler Strickland\nThe Man Who Couldn’t Dance directed by Samira Robinson\nThis Property Is Condemned directed by Michael Cramer\nBlind directed by Jenna German\n\nA variety of comedy and drama in compact form takes the stage as student directors and actors collaborate on this series of short plays.\n Reserve Tickets!
URL:https://vmpa.camden.rutgers.edu/event/the-student-directed-one-act-play-festival-7/
LOCATION:Walter K. Gordon Theater\, 314 Linden Street\, Camden\, NJ\, 08102\, United States
CATEGORIES:Theater Productions
END:VEVENT
BEGIN:VEVENT
DTSTART;TZID=America/New_York:20251208T193000
DTEND;TZID=America/New_York:20251208T203000
DTSTAMP:20260424T222321
CREATED:20251021T153606Z
LAST-MODIFIED:20251021T153606Z
UID:162839-1765222200-1765225800@vmpa.camden.rutgers.edu
SUMMARY:Rutgers–Camden Jazz Collective
DESCRIPTION:Directed by Prof. Steve Beskrone \nThis student ensemble will showcase a vibrant mix of traditional jazz standards\, contemporary jazz\, and original compositions\, delivering a night of unforgettable music and creativity.
URL:https://vmpa.camden.rutgers.edu/event/rutgers-camden-jazz-collective-2/
LOCATION:Walter K. Gordon Theater\, 314 Linden Street\, Camden\, NJ\, 08102\, United States
CATEGORIES:Concert
END:VEVENT
BEGIN:VEVENT
DTSTART;TZID=America/New_York:20251209T124500
DTEND;TZID=America/New_York:20251209T134500
DTSTAMP:20260424T222321
CREATED:20251021T152649Z
LAST-MODIFIED:20251021T153003Z
UID:162832-1765284300-1765287900@vmpa.camden.rutgers.edu
SUMMARY:Rutgers Concert Choir
DESCRIPTION:Directed by Prof. Soyeon Bin \nThis season’s concert will honor Jerome Kern and his legacy\, who is the pioneer of modern musical theater. Kern’s shows were stepping stones in the evolution of the American musical\, which influenced later composers like Richard Rodgers\, George Gershwin\, and Stephen Sondheim. We will be performing selections from his Hollywood film music and musicals such as Swing Time\, Roberta\, Very Warm For May\, Show Boat\, Sally\, Music in the Air\, and Cover Girl.
URL:https://vmpa.camden.rutgers.edu/event/rutgers-concert-choir-3/
LOCATION:Walter K. Gordon Theater\, 314 Linden Street\, Camden\, NJ\, 08102\, United States
CATEGORIES:Concert
END:VEVENT
BEGIN:VEVENT
DTSTART;TZID=America/New_York:20251209T183000
DTEND;TZID=America/New_York:20251209T193000
DTSTAMP:20260424T222321
CREATED:20251021T152945Z
LAST-MODIFIED:20251021T153015Z
UID:162834-1765305000-1765308600@vmpa.camden.rutgers.edu
SUMMARY:Rutgers Concert Choir
DESCRIPTION:Directed by Prof. Soyeon Bin \nThis season’s concert will honor Jerome Kern and his legacy\, who is the pioneer of modern musical theater. Kern’s shows were stepping stones in the evolution of the American musical\, which influenced later composers like Richard Rodgers\, George Gershwin\, and Stephen Sondheim. We will be performing selections from his Hollywood film music and musicals such as Swing Time\, Roberta\, Very Warm For May\, Show Boat\, Sally\, Music in the Air\, and Cover Girl.
URL:https://vmpa.camden.rutgers.edu/event/rutgers-concert-choir-4/
LOCATION:Walter K. Gordon Theater\, 314 Linden Street\, Camden\, NJ\, 08102\, United States
CATEGORIES:Concert
END:VEVENT
BEGIN:VEVENT
DTSTART;TZID=America/New_York:20251213T193000
DTEND;TZID=America/New_York:20251213T203000
DTSTAMP:20260424T222321
CREATED:20250910T144212Z
LAST-MODIFIED:20250910T144212Z
UID:162598-1765654200-1765657800@vmpa.camden.rutgers.edu
SUMMARY:Symphony in C – Vivaldi’s Four Seasons
DESCRIPTION:Founded in 1952\, the Mid-Atlantic region’s young professionals orchestra performs at Walter K. Gordon Theater. \nDvorak: Serenade for Strings\, op. 22\nVivaldi: The Four Seasons\nHao Zhou\, violin
URL:https://vmpa.camden.rutgers.edu/event/symphony-in-c-vivaldis-four-seasons/
LOCATION:Walter K. Gordon Theater\, 314 Linden Street\, Camden\, NJ\, 08102\, United States
CATEGORIES:Concert
END:VEVENT
END:VCALENDAR