BEGIN:VCALENDAR
VERSION:2.0
PRODID:-//Visual, Media, and Performing Arts - ECPv6.15.20//NONSGML v1.0//EN
CALSCALE:GREGORIAN
METHOD:PUBLISH
X-WR-CALNAME:Visual, Media, and Performing Arts
X-ORIGINAL-URL:https://vmpa.camden.rutgers.edu
X-WR-CALDESC:Events for Visual, Media, and Performing Arts
REFRESH-INTERVAL;VALUE=DURATION:PT1H
X-Robots-Tag:noindex
X-PUBLISHED-TTL:PT1H
BEGIN:VTIMEZONE
TZID:America/New_York
BEGIN:DAYLIGHT
TZOFFSETFROM:-0500
TZOFFSETTO:-0400
TZNAME:EDT
DTSTART:20240310T070000
END:DAYLIGHT
BEGIN:STANDARD
TZOFFSETFROM:-0400
TZOFFSETTO:-0500
TZNAME:EST
DTSTART:20241103T060000
END:STANDARD
BEGIN:DAYLIGHT
TZOFFSETFROM:-0500
TZOFFSETTO:-0400
TZNAME:EDT
DTSTART:20250309T070000
END:DAYLIGHT
BEGIN:STANDARD
TZOFFSETFROM:-0400
TZOFFSETTO:-0500
TZNAME:EST
DTSTART:20251102T060000
END:STANDARD
BEGIN:DAYLIGHT
TZOFFSETFROM:-0500
TZOFFSETTO:-0400
TZNAME:EDT
DTSTART:20260308T070000
END:DAYLIGHT
BEGIN:STANDARD
TZOFFSETFROM:-0400
TZOFFSETTO:-0500
TZNAME:EST
DTSTART:20261101T060000
END:STANDARD
END:VTIMEZONE
BEGIN:VEVENT
DTSTART;VALUE=DATE:20250918
DTEND;VALUE=DATE:20251214
DTSTAMP:20260419T125250
CREATED:20250910T145105Z
LAST-MODIFIED:20250910T145105Z
UID:162601-1758153600-1765670399@vmpa.camden.rutgers.edu
SUMMARY:Exhibition: Reynier Llanes: Pursuit of Grace
DESCRIPTION:Reynier Llanes’ paintings of imagined landscapes engage visual metaphors that explore personal\, cultural\, environmental\, and social inquiries. Through these subjects\, he asks philosophical questions about time and human experience. His work reminds us that discomfort is a necessary companion on the path to a hopeful and graceful future.  \nThis exhibition features previous works from 2017 through 2024 as well as new works created for this exhibition at Rutgers—Camden. \nAbout the artist: Born in Pinar del Rio\, Cuba in 1985. He attended the city’s school of art (Instructores de Arte) for four years and completed his studies in 2004. In 2012 Oxford America recognized him as one of the “New Superstars of Southern Art.” Llanes relocated with his family to Miami in 2015 in order to take advantage of the city’s international art market and vibrant cultural life and to be closer to his home country. His work is represented by prestigious institutions like Harmon Meek Gallery in Naples\, FL\, featured in public collections like the Denver Art Museum and presented at The Butler Institute of American Art\, the Polk Musuem of Art\, among many others. For the years to come\, Reynier would continue to work with institutions and communities in a series of projects focused on exploring the diverse sides of human nature and his exploration of art mediums and techniques. \n  \nGallery Hours\, Monday – Saturday\, 10:00 – 5:00\, free and open to the public \n 
URL:https://vmpa.camden.rutgers.edu/event/exhibition-reynier-llanes-pursuit-of-grace/
LOCATION:Stedman Gallery\, 314 Linden Street\, Camden\, NJ\, 08102\, United States
CATEGORIES:Exhibition
END:VEVENT
BEGIN:VEVENT
DTSTART;TZID=America/New_York:20251101T100000
DTEND;TZID=America/New_York:20251101T140000
DTSTAMP:20260419T125250
CREATED:20250909T154358Z
LAST-MODIFIED:20250909T154425Z
UID:162570-1761991200-1762005600@vmpa.camden.rutgers.edu
SUMMARY:Arts Day – Open House
DESCRIPTION:Spend the day with the Department of Visual\, Media\, and Performing Arts at Rutgers University–Camden\, and discover the exciting opportunities we have to offer! \nDuring our Fall 2025 Arts Day\, you will learn more about our visual and performing arts programs\, possible career opportunities\, and the admissions process. Prospective students will also have the opportunity to meet our faculty and students\, participate in workshops\, and attend optional auditions and portfolio reviews.
URL:https://vmpa.camden.rutgers.edu/event/arts-day-open-house/
LOCATION:Walter K. Gordon Theater\, 314 Linden Street\, Camden\, NJ\, 08102\, United States
END:VEVENT
BEGIN:VEVENT
DTSTART;TZID=America/New_York:20251101T193000
DTEND;TZID=America/New_York:20251101T213000
DTSTAMP:20260419T125250
CREATED:20250916T173737Z
LAST-MODIFIED:20250916T175254Z
UID:162721-1762025400-1762032600@vmpa.camden.rutgers.edu
SUMMARY:The Seagull
DESCRIPTION:Written by Anton Chekhov\nA version by Anya Reiss\nDirected by Damon Bonetti \nA celebrated actress\, a famous writer\, a young playwright\, and his muse come together at a country estate where they grapple with their passions\, jealousies\, desires\, and regrets in this classic\, serious comedy of human contradictions. \n Purchase Tickets!
URL:https://vmpa.camden.rutgers.edu/event/the-seagull-3/
LOCATION:Walter K. Gordon Theater\, 314 Linden Street\, Camden\, NJ\, 08102\, United States
CATEGORIES:Theater Productions
END:VEVENT
BEGIN:VEVENT
DTSTART;TZID=America/New_York:20251102T140000
DTEND;TZID=America/New_York:20251102T160000
DTSTAMP:20260419T125250
CREATED:20250916T173842Z
LAST-MODIFIED:20250916T175309Z
UID:162723-1762092000-1762099200@vmpa.camden.rutgers.edu
SUMMARY:The Seagull
DESCRIPTION:Written by Anton Chekhov\nA version by Anya Reiss\nDirected by Damon Bonetti \nA celebrated actress\, a famous writer\, a young playwright\, and his muse come together at a country estate where they grapple with their passions\, jealousies\, desires\, and regrets in this classic\, serious comedy of human contradictions. \n Purchase Tickets!
URL:https://vmpa.camden.rutgers.edu/event/the-seagull-4/
LOCATION:Walter K. Gordon Theater\, 314 Linden Street\, Camden\, NJ\, 08102\, United States
CATEGORIES:Theater Productions
END:VEVENT
BEGIN:VEVENT
DTSTART;TZID=America/New_York:20251103T113000
DTEND;TZID=America/New_York:20251103T123000
DTSTAMP:20260419T125250
CREATED:20250909T152650Z
LAST-MODIFIED:20250909T152650Z
UID:162562-1762169400-1762173000@vmpa.camden.rutgers.edu
SUMMARY:ZoomOnArt – Christina Freeman
DESCRIPTION:The Rutgers–Camden Department of Visual\, Media\, and Performing Arts becomes a central hub for interactive\, online conversations with nationally and internationally renowned artists during its ZoomOnArt program. \nRegister Now!
URL:https://vmpa.camden.rutgers.edu/event/zoomonart-christina-freeman/
LOCATION:online\, Virtual\, Virtual\, NJ\, United States
CATEGORIES:Lecture
END:VEVENT
BEGIN:VEVENT
DTSTART;TZID=America/New_York:20251105T112000
DTEND;TZID=America/New_York:20251105T122000
DTSTAMP:20260419T125250
CREATED:20250909T155856Z
LAST-MODIFIED:20250909T155856Z
UID:162586-1762341600-1762345200@vmpa.camden.rutgers.edu
SUMMARY:Mallery Concert Series – Trio Excelsior
DESCRIPTION:Dr. Joseph C. Schiavo\, Artistic Director\nWednesdays during free period\, 11:20 am – 12:20 pm\, Room FA-224\nAll Concerts are held in the Mallery Room in the Fine Arts Building.\nLive streaming is available during the times of performances:http://rcit.rutgers.edu/av-request/live/mallery-room
URL:https://vmpa.camden.rutgers.edu/event/mallery-concert-series-trio-excelsior/
LOCATION:Mallery Room\, FA-224\, 314 Linden Street\, Camden\, 08102\, United States
CATEGORIES:Concert
END:VEVENT
BEGIN:VEVENT
DTSTART;TZID=America/New_York:20251106T124500
DTEND;TZID=America/New_York:20251106T134500
DTSTAMP:20260419T125250
CREATED:20250909T153526Z
LAST-MODIFIED:20250909T153526Z
UID:162568-1762433100-1762436700@vmpa.camden.rutgers.edu
SUMMARY:Visiting Artists Program – Samuel Jablon
DESCRIPTION:Nationally and internationally acclaimed visual artists and art collectives visit our campus to present lectures about their work and professional practices. Visiting artists and designers have a chance to meet with the students and the larger Rutgers University–Camden community to continue the dialogue about perspectives on contemporary art. The theme of our Fall 2025 lecture series is Text. \n\n\n\n\nAll lectures are free and open to the public.
URL:https://vmpa.camden.rutgers.edu/event/visiting-artists-program-samuel-jablon/
LOCATION:Fine Arts Building\, Room 110\, 314 Linden Street\, Camden\, NJ\, 08102\, United States
CATEGORIES:Lecture
END:VEVENT
BEGIN:VEVENT
DTSTART;TZID=America/New_York:20251106T193000
DTEND;TZID=America/New_York:20251106T213000
DTSTAMP:20260419T125250
CREATED:20250916T173943Z
LAST-MODIFIED:20250916T175326Z
UID:162725-1762457400-1762464600@vmpa.camden.rutgers.edu
SUMMARY:The Seagull
DESCRIPTION:Written by Anton Chekhov\nA version by Anya Reiss\nDirected by Damon Bonetti \nA celebrated actress\, a famous writer\, a young playwright\, and his muse come together at a country estate where they grapple with their passions\, jealousies\, desires\, and regrets in this classic\, serious comedy of human contradictions. \n Purchase Tickets!
URL:https://vmpa.camden.rutgers.edu/event/the-seagull-5/
LOCATION:Walter K. Gordon Theater\, 314 Linden Street\, Camden\, NJ\, 08102\, United States
CATEGORIES:Theater Productions
END:VEVENT
BEGIN:VEVENT
DTSTART;TZID=America/New_York:20251107T100000
DTEND;TZID=America/New_York:20251107T120000
DTSTAMP:20260419T125250
CREATED:20250916T174132Z
LAST-MODIFIED:20250916T174700Z
UID:162727-1762509600-1762516800@vmpa.camden.rutgers.edu
SUMMARY:The Seagull
DESCRIPTION:Written by Anton Chekhov\nA version by Anya Reiss\nDirected by Damon Bonetti \nA celebrated actress\, a famous writer\, a young playwright\, and his muse come together at a country estate where they grapple with their passions\, jealousies\, desires\, and regrets in this classic\, serious comedy of human contradictions. \n Purchase Tickets!
URL:https://vmpa.camden.rutgers.edu/event/the-seagull-6/
LOCATION:Walter K. Gordon Theater\, 314 Linden Street\, Camden\, NJ\, 08102\, United States
CATEGORIES:Theater Productions
END:VEVENT
BEGIN:VEVENT
DTSTART;TZID=America/New_York:20251107T193000
DTEND;TZID=America/New_York:20251107T213000
DTSTAMP:20260419T125250
CREATED:20250916T174232Z
LAST-MODIFIED:20250916T174714Z
UID:162729-1762543800-1762551000@vmpa.camden.rutgers.edu
SUMMARY:The Seagull
DESCRIPTION:Written by Anton Chekhov\nA version by Anya Reiss\nDirected by Damon Bonetti \nA celebrated actress\, a famous writer\, a young playwright\, and his muse come together at a country estate where they grapple with their passions\, jealousies\, desires\, and regrets in this classic\, serious comedy of human contradictions. \n Purchase Tickets!
URL:https://vmpa.camden.rutgers.edu/event/the-seagull-7/
LOCATION:Walter K. Gordon Theater\, 314 Linden Street\, Camden\, NJ\, 08102\, United States
CATEGORIES:Theater Productions
END:VEVENT
BEGIN:VEVENT
DTSTART;TZID=America/New_York:20251108T193000
DTEND;TZID=America/New_York:20251108T213000
DTSTAMP:20260419T125250
CREATED:20250916T174901Z
LAST-MODIFIED:20250916T174901Z
UID:162740-1762630200-1762637400@vmpa.camden.rutgers.edu
SUMMARY:The Seagull
DESCRIPTION:Written by Anton Chekhov\nA version by Anya Reiss\nDirected by Damon Bonetti \nA celebrated actress\, a famous writer\, a young playwright\, and his muse come together at a country estate where they grapple with their passions\, jealousies\, desires\, and regrets in this classic\, serious comedy of human contradictions. \n Purchase Tickets!
URL:https://vmpa.camden.rutgers.edu/event/the-seagull-8/
LOCATION:Walter K. Gordon Theater\, 314 Linden Street\, Camden\, NJ\, 08102\, United States
CATEGORIES:Theater Productions
END:VEVENT
BEGIN:VEVENT
DTSTART;TZID=America/New_York:20251109T140000
DTEND;TZID=America/New_York:20251109T160000
DTSTAMP:20260419T125250
CREATED:20251103T183946Z
LAST-MODIFIED:20251103T183946Z
UID:162906-1762696800-1762704000@vmpa.camden.rutgers.edu
SUMMARY:The Seagull
DESCRIPTION:Written by Anton Chekhov\nA version by Anya Reiss\nDirected by Damon Bonetti \nA celebrated actress\, a famous writer\, a young playwright\, and his muse come together at a country estate where they grapple with their passions\, jealousies\, desires\, and regrets in this classic\, serious comedy of human contradictions. \n Purchase Tickets!
URL:https://vmpa.camden.rutgers.edu/event/the-seagull-10/
LOCATION:Walter K. Gordon Theater\, 314 Linden Street\, Camden\, NJ\, 08102\, United States
CATEGORIES:Theater Productions
END:VEVENT
BEGIN:VEVENT
DTSTART;TZID=America/New_York:20251112T112000
DTEND;TZID=America/New_York:20251112T122000
DTSTAMP:20260419T125250
CREATED:20250909T160112Z
LAST-MODIFIED:20250909T160112Z
UID:162588-1762946400-1762950000@vmpa.camden.rutgers.edu
SUMMARY:Mallery Concert Series – Junwen Liang\, piano
DESCRIPTION:Dr. Joseph C. Schiavo\, Artistic Director\nWednesdays during free period\, 11:20 am – 12:20 pm\, Room FA-224\nAll Concerts are held in the Mallery Room in the Fine Arts Building.\nLive streaming is available during the times of performances:http://rcit.rutgers.edu/av-request/live/mallery-room
URL:https://vmpa.camden.rutgers.edu/event/mallery-concert-series-junwen-liang-piano-2/
LOCATION:Mallery Room\, FA-224\, 314 Linden Street\, Camden\, 08102\, United States
CATEGORIES:Concert
END:VEVENT
BEGIN:VEVENT
DTSTART;TZID=America/New_York:20251119T112000
DTEND;TZID=America/New_York:20251119T122000
DTSTAMP:20260419T125250
CREATED:20250909T161801Z
LAST-MODIFIED:20250909T161801Z
UID:162590-1763551200-1763554800@vmpa.camden.rutgers.edu
SUMMARY:Mallery Concert Series – Copeland Quartet
DESCRIPTION:Dr. Joseph C. Schiavo\, Artistic Director\nWednesdays during free period\, 11:20 am – 12:20 pm\, Room FA-224\nAll Concerts are held in the Mallery Room in the Fine Arts Building.\nLive streaming is available during the times of performances:http://rcit.rutgers.edu/av-request/live/mallery-room
URL:https://vmpa.camden.rutgers.edu/event/mallery-concert-series-copeland-quartet-2/
LOCATION:Mallery Room\, FA-224\, 314 Linden Street\, Camden\, 08102\, United States
CATEGORIES:Concert
END:VEVENT
END:VCALENDAR