BEGIN:VCALENDAR
VERSION:2.0
PRODID:-//Visual, Media, and Performing Arts - ECPv6.15.20//NONSGML v1.0//EN
CALSCALE:GREGORIAN
METHOD:PUBLISH
X-WR-CALNAME:Visual, Media, and Performing Arts
X-ORIGINAL-URL:https://vmpa.camden.rutgers.edu
X-WR-CALDESC:Events for Visual, Media, and Performing Arts
REFRESH-INTERVAL;VALUE=DURATION:PT1H
X-Robots-Tag:noindex
X-PUBLISHED-TTL:PT1H
BEGIN:VTIMEZONE
TZID:America/New_York
BEGIN:DAYLIGHT
TZOFFSETFROM:-0500
TZOFFSETTO:-0400
TZNAME:EDT
DTSTART:20230312T070000
END:DAYLIGHT
BEGIN:STANDARD
TZOFFSETFROM:-0400
TZOFFSETTO:-0500
TZNAME:EST
DTSTART:20231105T060000
END:STANDARD
BEGIN:DAYLIGHT
TZOFFSETFROM:-0500
TZOFFSETTO:-0400
TZNAME:EDT
DTSTART:20240310T070000
END:DAYLIGHT
BEGIN:STANDARD
TZOFFSETFROM:-0400
TZOFFSETTO:-0500
TZNAME:EST
DTSTART:20241103T060000
END:STANDARD
BEGIN:DAYLIGHT
TZOFFSETFROM:-0500
TZOFFSETTO:-0400
TZNAME:EDT
DTSTART:20250309T070000
END:DAYLIGHT
BEGIN:STANDARD
TZOFFSETFROM:-0400
TZOFFSETTO:-0500
TZNAME:EST
DTSTART:20251102T060000
END:STANDARD
BEGIN:DAYLIGHT
TZOFFSETFROM:-0500
TZOFFSETTO:-0400
TZNAME:EDT
DTSTART:20260308T070000
END:DAYLIGHT
BEGIN:STANDARD
TZOFFSETFROM:-0400
TZOFFSETTO:-0500
TZNAME:EST
DTSTART:20261101T060000
END:STANDARD
END:VTIMEZONE
BEGIN:VEVENT
DTSTART;TZID=America/New_York:20241204T112000
DTEND;TZID=America/New_York:20241204T122000
DTSTAMP:20260424T221945
CREATED:20240813T181807Z
LAST-MODIFIED:20241003T170741Z
UID:160509-1733311200-1733314800@vmpa.camden.rutgers.edu
SUMMARY:Mallery Concert Series – Andrii Didorenko\, violin /Yuliya Basis\, piano
DESCRIPTION:Dr. Joseph C. Schiavo\, Artistic Director\nWednesdays during free period\, 11:20 am – 12:20 pm\, Room FA-224\nAll Concerts are held in the Mallery Room in the Fine Arts Building.\nLive streaming is available during the times of performances: http://rcit.rutgers.edu/av-request/live/mallery-room
URL:https://vmpa.camden.rutgers.edu/event/mallery-concert-series-10/
LOCATION:Mallery Room\, FA-224\, 314 Linden Street\, Camden\, 08102\, United States
CATEGORIES:Concert
END:VEVENT
BEGIN:VEVENT
DTSTART;TZID=America/New_York:20241205T193000
DTEND;TZID=America/New_York:20241205T213000
DTSTAMP:20260424T221945
CREATED:20240905T162919Z
LAST-MODIFIED:20240910T145316Z
UID:160826-1733427000-1733434200@vmpa.camden.rutgers.edu
SUMMARY:The Student-Directed One-Act Play Fest
DESCRIPTION:Rutgers theater students showcase an evening of short plays. Brevity is the soul of wit\, and this smorgasbord of short comedies and dramas is sure to be brief\, witty\, and surprising!
URL:https://vmpa.camden.rutgers.edu/event/the-student-directed-one-act-play-festival/
LOCATION:Black Box Studio\, 314 Linden St\, Camden\, NJ\, 08102\, United States
CATEGORIES:Theater Productions
END:VEVENT
BEGIN:VEVENT
DTSTART;TZID=America/New_York:20241206T193000
DTEND;TZID=America/New_York:20241206T213000
DTSTAMP:20260424T221946
CREATED:20240905T163535Z
LAST-MODIFIED:20240910T145542Z
UID:160834-1733513400-1733520600@vmpa.camden.rutgers.edu
SUMMARY:The Student-Directed One-Act Play Fest
DESCRIPTION:Rutgers theater students showcase an evening of short plays. Brevity is the soul of wit\, and this smorgasbord of short comedies and dramas is sure to be brief\, witty\, and surprising!
URL:https://vmpa.camden.rutgers.edu/event/the-student-directed-one-act-play-festival-2/
LOCATION:Black Box Studio\, 314 Linden St\, Camden\, NJ\, 08102\, United States
CATEGORIES:Theater Productions
END:VEVENT
BEGIN:VEVENT
DTSTART;TZID=America/New_York:20241207T193000
DTEND;TZID=America/New_York:20241207T213000
DTSTAMP:20260424T221946
CREATED:20240905T163834Z
LAST-MODIFIED:20240910T145722Z
UID:160837-1733599800-1733607000@vmpa.camden.rutgers.edu
SUMMARY:The Student-Directed One-Act Play Fest
DESCRIPTION:Rutgers theater students showcase an evening of short plays. Brevity is the soul of wit\, and this smorgasbord of short comedies and dramas is sure to be brief\, witty\, and surprising!
URL:https://vmpa.camden.rutgers.edu/event/the-student-directed-one-act-play-festival-3/
LOCATION:Black Box Studio\, 314 Linden St\, Camden\, NJ\, 08102\, United States
CATEGORIES:Theater Productions
END:VEVENT
BEGIN:VEVENT
DTSTART;TZID=America/New_York:20241208T140000
DTEND;TZID=America/New_York:20241208T160000
DTSTAMP:20260424T221946
CREATED:20240905T164044Z
LAST-MODIFIED:20240910T150311Z
UID:160839-1733666400-1733673600@vmpa.camden.rutgers.edu
SUMMARY:The Student-Directed One-Act Play Fest
DESCRIPTION:Rutgers theater students showcase an evening of short plays. Brevity is the soul of wit\, and this smorgasbord of short comedies and dramas is sure to be brief\, witty\, and surprising!
URL:https://vmpa.camden.rutgers.edu/event/the-student-directed-one-act-play-festival-4/
LOCATION:Black Box Studio\, 314 Linden St\, Camden\, NJ\, 08102\, United States
CATEGORIES:Theater Productions
END:VEVENT
BEGIN:VEVENT
DTSTART;TZID=America/New_York:20241210T124500
DTEND;TZID=America/New_York:20241210T134500
DTSTAMP:20260424T221946
CREATED:20240903T202447Z
LAST-MODIFIED:20241120T190303Z
UID:160697-1733834700-1733838300@vmpa.camden.rutgers.edu
SUMMARY:Rutgers Concert Choir: Celebration of Sound: A Holiday Concert Across Eras and Genres
DESCRIPTION:Directed by Prof. Soyeon Bin \nAn inspiring evening of music as we journey through time and genres\, featuring compositions by Tchaikovsky from the 1800s\, contemporary works by John Rutter\, and uplifting Gospels and Carols to celebrate the holiday.
URL:https://vmpa.camden.rutgers.edu/event/rutgers-concert-choir/
LOCATION:Walter K. Gordon Theater\, 314 Linden Street\, Camden\, NJ\, 08102\, United States
CATEGORIES:Concert
END:VEVENT
BEGIN:VEVENT
DTSTART;TZID=America/New_York:20241210T183000
DTEND;TZID=America/New_York:20241210T193000
DTSTAMP:20260424T221946
CREATED:20241120T185819Z
LAST-MODIFIED:20241120T190400Z
UID:161693-1733855400-1733859000@vmpa.camden.rutgers.edu
SUMMARY:Rutgers Concert Choir: Celebration of Sound: A Holiday Concert Across Eras and Genres
DESCRIPTION:Directed by Prof. Soyeon Bin \nAn inspiring evening of music as we journey through time and genres\, featuring compositions by Tchaikovsky from the 1800s\, contemporary works by John Rutter\, and uplifting Gospels and Carols to celebrate the holiday.
URL:https://vmpa.camden.rutgers.edu/event/rutgers-concert-choir-celebration-of-sound-a-holiday-concert-across-eras-and-genres/
LOCATION:Walter K. Gordon Theater\, 314 Linden Street\, Camden\, NJ\, 08102\, United States
CATEGORIES:Concert
END:VEVENT
BEGIN:VEVENT
DTSTART;VALUE=DATE:20241214
DTEND;VALUE=DATE:20250411
DTSTAMP:20260424T221946
CREATED:20250130T160602Z
LAST-MODIFIED:20250130T160602Z
UID:162037-1734134400-1744329599@vmpa.camden.rutgers.edu
SUMMARY:Exhibition: Emerging: The Stedman Gallery 50th Anniversary Show
DESCRIPTION:Celebrating the Stedman Gallery’s 50th Anniversary\, Emerging presents artworks from the 700+ artworks of the Rutgers-Camden Collection of Art\, which the Stedman has stewarded since its founding in 1975. The campus’s permanent art holdings include collector-donated artworks; gifts from friends of the gallery and artists’ estates\, purchase prizes from the Stedman’s national competitions; and purchase prizes from Visual\, Media and Performing Arts (VMPA) graduating classes. Emerging highlights abstract photographs by Joe Clementi\, Eric Porter\, Tatiana Parcero\, Ken Hohing\, and former VMPA photography students\, leading us on a journey through visions of our host city of Camden\, New Jersey. These photographs enter into conversation with drawings\, prints\, and paintings that provide earlier style renderings of the city\, donated by collectors who value the artist’s eye and hand. Featuring both long treasured and recently acquired collected artworks\, Emerging honors the Stedman Gallery’s past\, present\, and future as a site for meaningful visual arts programming and collecting.\n \nGallery Hours\, Monday – Saturday\, 10:00 – 5:00\, free and open to the public
URL:https://vmpa.camden.rutgers.edu/event/exhibition-emerging-the-stedman-gallery-50th-anniversary-show/
LOCATION:Stedman Gallery\, 314 Linden Street\, Camden\, NJ\, 08102\, United States
CATEGORIES:Exhibition
END:VEVENT
BEGIN:VEVENT
DTSTART;TZID=America/New_York:20241214T193000
DTEND;TZID=America/New_York:20241214T203000
DTSTAMP:20260424T221946
CREATED:20240903T204026Z
LAST-MODIFIED:20240910T150837Z
UID:160704-1734204600-1734208200@vmpa.camden.rutgers.edu
SUMMARY:Symphony in C – Mozart’s Piano Concerto
DESCRIPTION:Founded in 1952\, the Mid- Atlantic region’s young professionals orchestra performs at Walter K. Gordon Theater. \nChevalier de Saint-Georges: Symphony No. 2\, Op. 11\, D major\nMozart: Piano Concerto No. 9\nSoloist: TBA\nToldra: Vistes al Mar\, I. Allegro con brio\nMozart: Symphony No. 29\, K.201
URL:https://vmpa.camden.rutgers.edu/event/symphony-in-c-mozarts-piano-concerto/
LOCATION:Walter K. Gordon Theater\, 314 Linden Street\, Camden\, NJ\, 08102\, United States
END:VEVENT
END:VCALENDAR