BEGIN:VCALENDAR
VERSION:2.0
PRODID:-//Visual, Media, and Performing Arts - ECPv6.15.20//NONSGML v1.0//EN
CALSCALE:GREGORIAN
METHOD:PUBLISH
X-WR-CALNAME:Visual, Media, and Performing Arts
X-ORIGINAL-URL:https://vmpa.camden.rutgers.edu
X-WR-CALDESC:Events for Visual, Media, and Performing Arts
REFRESH-INTERVAL;VALUE=DURATION:PT1H
X-Robots-Tag:noindex
X-PUBLISHED-TTL:PT1H
BEGIN:VTIMEZONE
TZID:America/New_York
BEGIN:DAYLIGHT
TZOFFSETFROM:-0500
TZOFFSETTO:-0400
TZNAME:EDT
DTSTART:20230312T070000
END:DAYLIGHT
BEGIN:STANDARD
TZOFFSETFROM:-0400
TZOFFSETTO:-0500
TZNAME:EST
DTSTART:20231105T060000
END:STANDARD
BEGIN:DAYLIGHT
TZOFFSETFROM:-0500
TZOFFSETTO:-0400
TZNAME:EDT
DTSTART:20240310T070000
END:DAYLIGHT
BEGIN:STANDARD
TZOFFSETFROM:-0400
TZOFFSETTO:-0500
TZNAME:EST
DTSTART:20241103T060000
END:STANDARD
BEGIN:DAYLIGHT
TZOFFSETFROM:-0500
TZOFFSETTO:-0400
TZNAME:EDT
DTSTART:20250309T070000
END:DAYLIGHT
BEGIN:STANDARD
TZOFFSETFROM:-0400
TZOFFSETTO:-0500
TZNAME:EST
DTSTART:20251102T060000
END:STANDARD
END:VTIMEZONE
BEGIN:VEVENT
DTSTART;TZID=America/New_York:20240903T100000
DTEND;TZID=America/New_York:20241116T170000
DTSTAMP:20260419T104153
CREATED:20240903T212735Z
LAST-MODIFIED:20240910T195632Z
UID:160710-1725357600-1731776400@vmpa.camden.rutgers.edu
SUMMARY:Exhibition: Alonzo Adams: These Eyes Have Seen
DESCRIPTION:The Stedman Gallery at Rutgers-Camden Center for the Arts presents “Alonzo Adams: These Eyes Have Seen\,” showcasing the latest works by Alonzo Adams\, a contemporary realist figurative painter and Rutgers alumnus. Adams’ paintings depict local subjects\, as well as subjects from his travels to the Caribbean and Africa\, to offer a profound exploration of Black identity and racial justice. \nAlonzo Adams (b. 1961) is a painter raised in Plainfield\, New Jersey. He earned a BFA from Rutgers-New Brunswick\, Mason Gross School of the Arts in 1984 and an MFA from University of Pennsylvania in 1991. His work has been featured in many venues\, including Howard University\, the Senate Building in Washington\, D.C.\, and the Studio Museum in Harlem. In 2004\, Adams was one of the first inductees into the Rutgers African American Alumni Alliance’s Hall of Fame. \nGallery Hours\, Monday – Saturday\, 10:00 – 5:00\, free and open to the public \n 
URL:https://vmpa.camden.rutgers.edu/event/exhibition-alonzo-adams-these-eyes-have-seen/
LOCATION:Stedman Gallery\, 314 Linden Street\, Camden\, NJ\, 08102\, United States
CATEGORIES:Exhibition
END:VEVENT
BEGIN:VEVENT
DTSTART;TZID=America/New_York:20241001T090000
DTEND;TZID=America/New_York:20241122T220000
DTSTAMP:20260419T104153
CREATED:20240903T195002Z
LAST-MODIFIED:20240909T174457Z
UID:160692-1727773200-1732312800@vmpa.camden.rutgers.edu
SUMMARY:Exhibition: Still by Jacob Lechner
DESCRIPTION:Still is a series of photos of abandoned buildings and sites that Jacob Lechner has visited over the past decade. Lechner reframes these hollowed cathedrals\, derelict tracks\, and abandoned sites as decaying time capsules; places we travel while staying still. \n\n\n\n\nOctober 1 – November 22\nReception: Wednesday\, November 13\, 5:00 – 7:00 pm
URL:https://vmpa.camden.rutgers.edu/event/still-by-jacob-lechner/
LOCATION:The Campus Gallery\, 252 North 3rd Street\, Camden\, NJ\, 08102\, United States
CATEGORIES:Exhibition
END:VEVENT
BEGIN:VEVENT
DTSTART;TZID=America/New_York:20241001T090000
DTEND;TZID=America/New_York:20241122T220000
DTSTAMP:20260419T104153
CREATED:20240903T195334Z
LAST-MODIFIED:20240912T174421Z
UID:160694-1727773200-1732312800@vmpa.camden.rutgers.edu
SUMMARY:Exhibition: Still by Jacob Lechner
DESCRIPTION:Still is a series of photos of abandoned buildings and sites that Jacob Lechner has visited over the past decade. Lechner reframes these hollowed cathedrals\, derelict tracks\, and abandoned sites as decaying time capsules; places we travel while staying still. \nGallery hours:\nMonday – Friday: 9AM – 10PM\nSunday: 12 – 6PM \n 
URL:https://vmpa.camden.rutgers.edu/event/still-by-jacob-lechner-exhibition/
LOCATION:The Campus Gallery\, 252 North 3rd Street\, Camden\, NJ\, 08102\, United States
CATEGORIES:Exhibition
END:VEVENT
BEGIN:VEVENT
DTSTART;TZID=America/New_York:20241101T193000
DTEND;TZID=America/New_York:20241101T210000
DTSTAMP:20260419T104153
CREATED:20240904T184704Z
LAST-MODIFIED:20240909T180305Z
UID:160779-1730489400-1730494800@vmpa.camden.rutgers.edu
SUMMARY:The Rocky Horror Show
DESCRIPTION:Book\, Music\, and Lyrics by Richard O’Brien\nDirected by Paul Bernstein \nThis legendary rock musical tells the tale of Brad and Janet\, two normie college kids whose car breaks down on a stormy night outside a creepy mansion where they meet the strangely captivating Dr. Frank N Furter. Their lives will never be the same. It’s the original inspiration for the cult classic film seen by millions! \n  \nTHE ROCKY HORROR SHOW is presented by arrangement with Concord Theatricals. www.concordtheatricals.com
URL:https://vmpa.camden.rutgers.edu/event/the-rocky-horror-show-3/
LOCATION:Walter K. Gordon Theater\, 314 Linden Street\, Camden\, NJ\, 08102\, United States
CATEGORIES:Theater Productions
END:VEVENT
BEGIN:VEVENT
DTSTART;TZID=America/New_York:20241102T193000
DTEND;TZID=America/New_York:20241102T210000
DTSTAMP:20260419T104153
CREATED:20240905T144244Z
LAST-MODIFIED:20240909T180554Z
UID:160787-1730575800-1730581200@vmpa.camden.rutgers.edu
SUMMARY:The Rocky Horror Show
DESCRIPTION:Book\, Music\, and Lyrics by Richard O’Brien\nDirected by Paul Bernstein \nThis legendary rock musical tells the tale of Brad and Janet\, two normie college kids whose car breaks down on a stormy night outside a creepy mansion where they meet the strangely captivating Dr. Frank N Furter. Their lives will never be the same. It’s the original inspiration for the cult classic film seen by millions! \n  \nTHE ROCKY HORROR SHOW is presented by arrangement with Concord Theatricals. www.concordtheatricals.com
URL:https://vmpa.camden.rutgers.edu/event/the-rocky-horror-show-5/
LOCATION:Walter K. Gordon Theater\, 314 Linden Street\, Camden\, NJ\, 08102\, United States
CATEGORIES:Theater Productions
END:VEVENT
BEGIN:VEVENT
DTSTART;TZID=America/New_York:20241103T140000
DTEND;TZID=America/New_York:20241103T153000
DTSTAMP:20260419T104153
CREATED:20240904T175630Z
LAST-MODIFIED:20240909T180641Z
UID:160771-1730642400-1730647800@vmpa.camden.rutgers.edu
SUMMARY:The Rocky Horror Show
DESCRIPTION:Book\, Music\, and Lyrics by Richard O’Brien\nDirected by Paul Bernstein \nThis legendary rock musical tells the tale of Brad and Janet\, two normie college kids whose car breaks down on a stormy night outside a creepy mansion where they meet the strangely captivating Dr. Frank N Furter. Their lives will never be the same. It’s the original inspiration for the cult classic film seen by millions! \n  \nTHE ROCKY HORROR SHOW is presented by arrangement with Concord Theatricals. www.concordtheatricals.com
URL:https://vmpa.camden.rutgers.edu/event/the-rocky-horror-show-2/
LOCATION:Walter K. Gordon Theater\, 314 Linden Street\, Camden\, NJ\, 08102\, United States
CATEGORIES:Theater Productions
END:VEVENT
BEGIN:VEVENT
DTSTART;TZID=America/New_York:20241106T112000
DTEND;TZID=America/New_York:20241106T122000
DTSTAMP:20260419T104153
CREATED:20240813T180954Z
LAST-MODIFIED:20241003T170849Z
UID:160502-1730892000-1730895600@vmpa.camden.rutgers.edu
SUMMARY:Mallery Concert Series – Kairos Trio
DESCRIPTION:Dr. Joseph C. Schiavo\, Artistic Director\nWednesdays during free period\, 11:20 am – 12:20 pm\, Room FA-224\nAll Concerts are held in the Mallery Room in the Fine Arts Building.\nLive streaming is available during the times of performances: http://rcit.rutgers.edu/av-request/live/mallery-room
URL:https://vmpa.camden.rutgers.edu/event/mallery-concert-series-7/
LOCATION:Mallery Room\, FA-224\, 314 Linden Street\, Camden\, 08102\, United States
END:VEVENT
BEGIN:VEVENT
DTSTART;TZID=America/New_York:20241107T193000
DTEND;TZID=America/New_York:20241107T210000
DTSTAMP:20260419T104153
CREATED:20240905T155813Z
LAST-MODIFIED:20240909T181017Z
UID:160806-1731007800-1731013200@vmpa.camden.rutgers.edu
SUMMARY:The Rocky Horror Show
DESCRIPTION:Book\, Music\, and Lyrics by Richard O’Brien\nDirected by Paul Bernstein \nThis legendary rock musical tells the tale of Brad and Janet\, two normie college kids whose car breaks down on a stormy night outside a creepy mansion where they meet the strangely captivating Dr. Frank N Furter. Their lives will never be the same. It’s the original inspiration for the cult classic film seen by millions! \n  \nTHE ROCKY HORROR SHOW is presented by arrangement with Concord Theatricals. www.concordtheatricals.com
URL:https://vmpa.camden.rutgers.edu/event/the-rocky-horror-show-6/
LOCATION:Walter K. Gordon Theater\, 314 Linden Street\, Camden\, NJ\, 08102\, United States
CATEGORIES:Theater Productions
END:VEVENT
BEGIN:VEVENT
DTSTART;TZID=America/New_York:20241108T193000
DTEND;TZID=America/New_York:20241108T210000
DTSTAMP:20260419T104153
CREATED:20240905T160112Z
LAST-MODIFIED:20240909T181131Z
UID:160809-1731094200-1731099600@vmpa.camden.rutgers.edu
SUMMARY:The Rocky Horror Show
DESCRIPTION:Book\, Music\, and Lyrics by Richard O’Brien\nDirected by Paul Bernstein \nThis legendary rock musical tells the tale of Brad and Janet\, two normie college kids whose car breaks down on a stormy night outside a creepy mansion where they meet the strangely captivating Dr. Frank N Furter. Their lives will never be the same. It’s the original inspiration for the cult classic film seen by millions! \n  \nTHE ROCKY HORROR SHOW is presented by arrangement with Concord Theatricals. www.concordtheatricals.com
URL:https://vmpa.camden.rutgers.edu/event/the-rocky-horror-show-7/
LOCATION:Walter K. Gordon Theater\, 314 Linden Street\, Camden\, NJ\, 08102\, United States
CATEGORIES:Theater Productions
END:VEVENT
BEGIN:VEVENT
DTSTART;TZID=America/New_York:20241109T193000
DTEND;TZID=America/New_York:20241109T210000
DTSTAMP:20260419T104153
CREATED:20240905T160714Z
LAST-MODIFIED:20240909T181251Z
UID:160815-1731180600-1731186000@vmpa.camden.rutgers.edu
SUMMARY:The Rocky Horror Show
DESCRIPTION:Book\, Music\, and Lyrics by Richard O’Brien\nDirected by Paul Bernstein \nThis legendary rock musical tells the tale of Brad and Janet\, two normie college kids whose car breaks down on a stormy night outside a creepy mansion where they meet the strangely captivating Dr. Frank N Furter. Their lives will never be the same. It’s the original inspiration for the cult classic film seen by millions! \n  \nTHE ROCKY HORROR SHOW is presented by arrangement with Concord Theatricals. www.concordtheatricals.com
URL:https://vmpa.camden.rutgers.edu/event/the-rocky-horror-show-8/
LOCATION:Walter K. Gordon Theater\, 314 Linden Street\, Camden\, NJ\, 08102\, United States
CATEGORIES:Theater Productions
END:VEVENT
BEGIN:VEVENT
DTSTART;TZID=America/New_York:20241110T140000
DTEND;TZID=America/New_York:20241110T153000
DTSTAMP:20260419T104153
CREATED:20240905T160911Z
LAST-MODIFIED:20241110T165822Z
UID:160817-1731247200-1731252600@vmpa.camden.rutgers.edu
SUMMARY:Nov 10th CANCELLED: The Rocky Horror Show
DESCRIPTION:Book\, Music\, and Lyrics by Richard O’Brien\nDirected by Paul Bernstein \nThis legendary rock musical tells the tale of Brad and Janet\, two normie college kids whose car breaks down on a stormy night outside a creepy mansion where they meet the strangely captivating Dr. Frank N Furter. Their lives will never be the same. It’s the original inspiration for the cult classic film seen by millions! \n  \nTHE ROCKY HORROR SHOW is presented by arrangement with Concord Theatricals. www.concordtheatricals.com
URL:https://vmpa.camden.rutgers.edu/event/the-rocky-horror-show-9/
LOCATION:Walter K. Gordon Theater\, 314 Linden Street\, Camden\, NJ\, 08102\, United States
CATEGORIES:Theater Productions
END:VEVENT
BEGIN:VEVENT
DTSTART;TZID=America/New_York:20241113T112000
DTEND;TZID=America/New_York:20241113T122000
DTSTAMP:20260419T104153
CREATED:20240813T181140Z
LAST-MODIFIED:20241105T135101Z
UID:160504-1731496800-1731500400@vmpa.camden.rutgers.edu
SUMMARY:Mallery Concert Series – Dominick D'Alessandro\, piano
DESCRIPTION:Dr. Joseph C. Schiavo\, Artistic Director\nWednesdays during free period\, 11:20 am – 12:20 pm\, Room FA-224\nAll Concerts are held in the Mallery Room in the Fine Arts Building.\nLive streaming is available during the times of performances: http://rcit.rutgers.edu/av-request/live/mallery-room
URL:https://vmpa.camden.rutgers.edu/event/mallery-concert-series-8/
LOCATION:Mallery Room\, FA-224\, 314 Linden Street\, Camden\, 08102\, United States
CATEGORIES:Concert
END:VEVENT
BEGIN:VEVENT
DTSTART;TZID=America/New_York:20241114T124500
DTEND;TZID=America/New_York:20241114T134500
DTSTAMP:20260419T104153
CREATED:20240903T164434Z
LAST-MODIFIED:20240925T133534Z
UID:160671-1731588300-1731591900@vmpa.camden.rutgers.edu
SUMMARY:Visiting Artists Program – Amy Boone-McCreesh
DESCRIPTION:Nationally and internationally acclaimed visual artists and art collectives visit our campus to present lectures about their work and professional practices. Visiting artists and designers have a chance to meet with the students and the larger Rutgers University–Camden community to continue the dialogue about perspectives on contemporary art. The main theme of our FALL 2024 lecture series is Textiles and Objects. \n\n\n\n\nAll lectures are free and open to the public.
URL:https://vmpa.camden.rutgers.edu/event/visiting-artists-program-amy-boone-mccreesh/
LOCATION:Fine Arts Building\, Room 110\, 314 Linden Street\, Camden\, NJ\, 08102\, United States
CATEGORIES:Lecture
END:VEVENT
BEGIN:VEVENT
DTSTART;TZID=America/New_York:20241115T170000
DTEND;TZID=America/New_York:20241115T200000
DTSTAMP:20260419T104153
CREATED:20240903T214322Z
LAST-MODIFIED:20240912T152210Z
UID:160716-1731690000-1731700800@vmpa.camden.rutgers.edu
SUMMARY:Alonzo Adams: These Eyes Have Seen Artist Talk and Closing Reception
DESCRIPTION:The Stedman Gallery at Rutgers-Camden Center for the Arts presents “Alonzo Adams: These Eyes Have Seen\,” showcasing the latest works by Alonzo Adams\, a contemporary realist figurative painter and Rutgers alumnus. Adams’ paintings depict local subjects\, as well as subjects from his travels to the Caribbean and Africa\, to offer a profound exploration of Black identity and racial justice. \nAlonzo Adams (b. 1961) is a painter raised in Plainfield\, New Jersey. He earned a BFA from Rutgers-New Brunswick\, Mason Gross School of the Arts in 1984 and an MFA from University of Pennsylvania in 1991. His work has been featured in many venues\, including Howard University\, the Senate Building in Washington\, D.C.\, and the Studio Museum in Harlem. In 2004\, Adams was one of the first inductees into the Rutgers African American Alumni Alliance’s Hall of Fame. \nGallery Hours\, Monday – Saturday\, 10:00 – 5:00\, free and open to the public
URL:https://vmpa.camden.rutgers.edu/event/alonzo-adamsthese-eyes-have-seen-artist-talk-and-closing-reception/
LOCATION:Stedman Gallery\, 314 Linden Street\, Camden\, NJ\, 08102\, United States
CATEGORIES:Exhibition,Lecture
END:VEVENT
BEGIN:VEVENT
DTSTART;TZID=America/New_York:20241118T113000
DTEND;TZID=America/New_York:20241118T123000
DTSTAMP:20260419T104153
CREATED:20240903T175750Z
LAST-MODIFIED:20240910T003310Z
UID:160682-1731929400-1731933000@vmpa.camden.rutgers.edu
SUMMARY:ZoomOnArt – Emily Schleiner
DESCRIPTION:The Rutgers–Camden Department of Visual\, Media\, and Performing Arts becomes a central hub for interactive\, online conversations with nationally and internationally renowned artists during its ZoomOnArt program. \nLink for zoom meeting \nMeeting ID: 993 946 5337\nPasscode: 123456
URL:https://vmpa.camden.rutgers.edu/event/zoomonart-emily-schleiner/
LOCATION:online\, Virtual\, Virtual\, NJ\, United States
CATEGORIES:Lecture
END:VEVENT
BEGIN:VEVENT
DTSTART;TZID=America/New_York:20241120T112000
DTEND;TZID=America/New_York:20241120T122000
DTSTAMP:20260419T104153
CREATED:20240813T181318Z
LAST-MODIFIED:20241003T170827Z
UID:160506-1732101600-1732105200@vmpa.camden.rutgers.edu
SUMMARY:Mallery Concert Series – Mada and Hugh Piano Duo
DESCRIPTION:Dr. Joseph C. Schiavo\, Artistic Director\nWednesdays during free period\, 11:20 am – 12:20 pm\, Room FA-224\nAll Concerts are held in the Mallery Room in the Fine Arts Building.\nLive streaming is available during the times of performances: http://rcit.rutgers.edu/av-request/live/mallery-room
URL:https://vmpa.camden.rutgers.edu/event/mallery-concert-series-9/
LOCATION:Mallery Room\, FA-224\, 314 Linden Street\, Camden\, 08102\, United States
CATEGORIES:Concert
END:VEVENT
BEGIN:VEVENT
DTSTART;TZID=America/New_York:20241120T193000
DTEND;TZID=America/New_York:20241120T203000
DTSTAMP:20260419T104153
CREATED:20241114T182146Z
LAST-MODIFIED:20241114T182146Z
UID:161659-1732131000-1732134600@vmpa.camden.rutgers.edu
SUMMARY:RU Project Band
DESCRIPTION:Directed by Joey Lebron and Prof. Jojo Streater. \nThe RU Project\, under the direction of Prof. JoJo Streater\, will present multiple mash-ups of pop tunes in their fall concert. \nAdmission is free.
URL:https://vmpa.camden.rutgers.edu/event/ru-project-band/
LOCATION:Walter K. Gordon Theater\, 314 Linden Street\, Camden\, NJ\, 08102\, United States
CATEGORIES:Concert
END:VEVENT
BEGIN:VEVENT
DTSTART;TZID=America/New_York:20241121T193000
DTEND;TZID=America/New_York:20241121T203000
DTSTAMP:20260419T104153
CREATED:20241114T182256Z
LAST-MODIFIED:20241114T182256Z
UID:161663-1732217400-1732221000@vmpa.camden.rutgers.edu
SUMMARY:RU Project Band
DESCRIPTION:Directed by Joey Lebron and Prof. Jojo Streater. \nThe RU Project\, under the direction of Prof. JoJo Streater\, will present multiple mash-ups of pop tunes in their fall concert. \nAdmission is free.
URL:https://vmpa.camden.rutgers.edu/event/ru-project-band-2/
LOCATION:Walter K. Gordon Theater\, 314 Linden Street\, Camden\, NJ\, 08102\, United States
END:VEVENT
END:VCALENDAR