BEGIN:VCALENDAR
VERSION:2.0
PRODID:-//Visual, Media, and Performing Arts - ECPv6.15.20//NONSGML v1.0//EN
CALSCALE:GREGORIAN
METHOD:PUBLISH
X-WR-CALNAME:Visual, Media, and Performing Arts
X-ORIGINAL-URL:https://vmpa.camden.rutgers.edu
X-WR-CALDESC:Events for Visual, Media, and Performing Arts
REFRESH-INTERVAL;VALUE=DURATION:PT1H
X-Robots-Tag:noindex
X-PUBLISHED-TTL:PT1H
BEGIN:VTIMEZONE
TZID:America/New_York
BEGIN:DAYLIGHT
TZOFFSETFROM:-0500
TZOFFSETTO:-0400
TZNAME:EDT
DTSTART:20240310T070000
END:DAYLIGHT
BEGIN:STANDARD
TZOFFSETFROM:-0400
TZOFFSETTO:-0500
TZNAME:EST
DTSTART:20241103T060000
END:STANDARD
BEGIN:DAYLIGHT
TZOFFSETFROM:-0500
TZOFFSETTO:-0400
TZNAME:EDT
DTSTART:20250309T070000
END:DAYLIGHT
BEGIN:STANDARD
TZOFFSETFROM:-0400
TZOFFSETTO:-0500
TZNAME:EST
DTSTART:20251102T060000
END:STANDARD
BEGIN:DAYLIGHT
TZOFFSETFROM:-0500
TZOFFSETTO:-0400
TZNAME:EDT
DTSTART:20260308T070000
END:DAYLIGHT
BEGIN:STANDARD
TZOFFSETFROM:-0400
TZOFFSETTO:-0500
TZNAME:EST
DTSTART:20261101T060000
END:STANDARD
END:VTIMEZONE
BEGIN:VEVENT
DTSTART;TZID=America/New_York:20250227T124500
DTEND;TZID=America/New_York:20250227T134500
DTSTAMP:20260422T161659
CREATED:20250213T170914Z
LAST-MODIFIED:20250213T173029Z
UID:162092-1740660300-1740663900@vmpa.camden.rutgers.edu
SUMMARY:Art and Science Collaboration – Prof. Elizabeth Demaray
DESCRIPTION:Artist Elizabeth Demaray programs listening stations for birds that play human music\, cultures lichen on the sides of skyscrapers in New York City and creates floraborgs\, AI supported robotic supports that allow potted plants to move freely in a domestic space. A professor of fine art at Rutgers University\, her focus is trans-species giving and non-anthropencentric design. Demaray is also a founder of LABitate\, which is a platform for art and science collaboration in Camden\, NJ/ Her work can be viewed at https://elizabethdemaray.org
URL:https://vmpa.camden.rutgers.edu/event/art-and-science-collaboration-prof-elizabeth-demaray/
LOCATION:Joint Health Sciences Center seminar room\, 201 Broadway\, Camden\, NJ\, 08103\, United States
CATEGORIES:Seminar
END:VEVENT
END:VCALENDAR