BEGIN:VCALENDAR
VERSION:2.0
PRODID:-//Visual, Media, and Performing Arts - ECPv6.15.20//NONSGML v1.0//EN
CALSCALE:GREGORIAN
METHOD:PUBLISH
X-ORIGINAL-URL:https://vmpa.camden.rutgers.edu
X-WR-CALDESC:Events for Visual, Media, and Performing Arts
REFRESH-INTERVAL;VALUE=DURATION:PT1H
X-Robots-Tag:noindex
X-PUBLISHED-TTL:PT1H
BEGIN:VTIMEZONE
TZID:America/New_York
BEGIN:DAYLIGHT
TZOFFSETFROM:-0500
TZOFFSETTO:-0400
TZNAME:EDT
DTSTART:20250309T070000
END:DAYLIGHT
BEGIN:STANDARD
TZOFFSETFROM:-0400
TZOFFSETTO:-0500
TZNAME:EST
DTSTART:20251102T060000
END:STANDARD
BEGIN:DAYLIGHT
TZOFFSETFROM:-0500
TZOFFSETTO:-0400
TZNAME:EDT
DTSTART:20260308T070000
END:DAYLIGHT
BEGIN:STANDARD
TZOFFSETFROM:-0400
TZOFFSETTO:-0500
TZNAME:EST
DTSTART:20261101T060000
END:STANDARD
BEGIN:DAYLIGHT
TZOFFSETFROM:-0500
TZOFFSETTO:-0400
TZNAME:EDT
DTSTART:20270314T070000
END:DAYLIGHT
BEGIN:STANDARD
TZOFFSETFROM:-0400
TZOFFSETTO:-0500
TZNAME:EST
DTSTART:20271107T060000
END:STANDARD
END:VTIMEZONE
BEGIN:VEVENT
DTSTART;TZID=America/New_York:20260422T113000
DTEND;TZID=America/New_York:20260422T122000
DTSTAMP:20260421T220621
CREATED:20260129T173312Z
LAST-MODIFIED:20260129T173312Z
UID:163274-1776857400-1776860400@vmpa.camden.rutgers.edu
SUMMARY:ZoomOnArt – Richard Shaw
DESCRIPTION:The Rutgers–Camden Department of Visual\, Media\, and Performing Arts becomes a central hub for interactive\, online conversations with nationally and internationally renowned artists during its ZoomOnArt program. \n\n\nAll talks and/or workshops occur in FA 103/FA 105 Sculpture studios. Bring your lunch and prepare to be impressed! Contact Prof. Demaray at demaray@rutgers.edu for more info.
URL:https://vmpa.camden.rutgers.edu/event/zoomonart-richard-shaw/
LOCATION:FA-103/ FA-105 Sculpture Studios\, 314 Linden St\, Camden\, NJ\, 08102\, United States
CATEGORIES:Lecture
END:VEVENT
BEGIN:VEVENT
DTSTART;TZID=America/New_York:20260423T124500
DTEND;TZID=America/New_York:20260423T134500
DTSTAMP:20260421T220621
CREATED:20260129T155850Z
LAST-MODIFIED:20260216T162341Z
UID:163248-1776948300-1776951900@vmpa.camden.rutgers.edu
SUMMARY:Visiting Artists Program – Cat Balco
DESCRIPTION:Nationally and internationally acclaimed visual artists and art collectives visit our campus to present lectures about their work and professional practices. Visiting artists and designers have a chance to meet with the students and the larger Rutgers University–Camden community to continue the dialogue about perspectives on contemporary art. The main theme of our Spring 2026 lecture series is Patterns.
URL:https://vmpa.camden.rutgers.edu/event/visiting-artist-program-cat-balco/
LOCATION:Fine Arts Building\, Room 110\, 314 Linden Street\, Camden\, NJ\, 08102\, United States
CATEGORIES:Lecture
END:VEVENT
BEGIN:VEVENT
DTSTART;TZID=America/New_York:20260428T124500
DTEND;TZID=America/New_York:20260428T134500
DTSTAMP:20260421T220621
CREATED:20260331T171648Z
LAST-MODIFIED:20260331T171648Z
UID:163588-1777380300-1777383900@vmpa.camden.rutgers.edu
SUMMARY:2nd Annual Curatorial Forum on Emerging Arts
DESCRIPTION:This forum brings together prominent curators from the greater Philadelphia area to discuss topics on emerging contemporary arts and critical questions for the next generation of artists. Join us for this open talk unveiling strategies for building sustainable practices for emerging artists living in the region\, moderated by Prof. Stass Shpanin and Rutgers University–Camden students.
URL:https://vmpa.camden.rutgers.edu/event/2nd-annual-curatorial-forum-on-emerging-arts/
LOCATION:Fine Arts Building\, Room 110\, 314 Linden Street\, Camden\, NJ\, 08102\, United States
CATEGORIES:Lecture,Seminar
END:VEVENT
END:VCALENDAR