BEGIN:VCALENDAR
VERSION:2.0
PRODID:-//Visual, Media, and Performing Arts - ECPv6.15.20//NONSGML v1.0//EN
CALSCALE:GREGORIAN
METHOD:PUBLISH
X-WR-CALNAME:Visual, Media, and Performing Arts
X-ORIGINAL-URL:https://vmpa.camden.rutgers.edu
X-WR-CALDESC:Events for Visual, Media, and Performing Arts
REFRESH-INTERVAL;VALUE=DURATION:PT1H
X-Robots-Tag:noindex
X-PUBLISHED-TTL:PT1H
BEGIN:VTIMEZONE
TZID:America/New_York
BEGIN:DAYLIGHT
TZOFFSETFROM:-0500
TZOFFSETTO:-0400
TZNAME:EDT
DTSTART:20250309T070000
END:DAYLIGHT
BEGIN:STANDARD
TZOFFSETFROM:-0400
TZOFFSETTO:-0500
TZNAME:EST
DTSTART:20251102T060000
END:STANDARD
BEGIN:DAYLIGHT
TZOFFSETFROM:-0500
TZOFFSETTO:-0400
TZNAME:EDT
DTSTART:20260308T070000
END:DAYLIGHT
BEGIN:STANDARD
TZOFFSETFROM:-0400
TZOFFSETTO:-0500
TZNAME:EST
DTSTART:20261101T060000
END:STANDARD
BEGIN:DAYLIGHT
TZOFFSETFROM:-0500
TZOFFSETTO:-0400
TZNAME:EDT
DTSTART:20270314T070000
END:DAYLIGHT
BEGIN:STANDARD
TZOFFSETFROM:-0400
TZOFFSETTO:-0500
TZNAME:EST
DTSTART:20271107T060000
END:STANDARD
END:VTIMEZONE
BEGIN:VEVENT
DTSTART;TZID=America/New_York:20260424T193000
DTEND;TZID=America/New_York:20260424T203000
DTSTAMP:20260421T234239
CREATED:20260225T153149Z
LAST-MODIFIED:20260225T153149Z
UID:163431-1777059000-1777062600@vmpa.camden.rutgers.edu
SUMMARY:Rutgers–Camden Jazz Collective
DESCRIPTION:Directed by Steve Beskrone. \nA performance featuring trumpet\, flute\, keyboard\, guitar\, bass\, and drums\, blending traditional and contemporary jazz with elements of Brazilian music.
URL:https://vmpa.camden.rutgers.edu/event/rutgers-camden-jazz-collective-3/
LOCATION:Walter K. Gordon Theater\, 314 Linden Street\, Camden\, NJ\, 08102\, United States
CATEGORIES:Concert
END:VEVENT
BEGIN:VEVENT
DTSTART;TZID=America/New_York:20260428T124500
DTEND;TZID=America/New_York:20260428T134500
DTSTAMP:20260421T234239
CREATED:20260225T153513Z
LAST-MODIFIED:20260225T153513Z
UID:163435-1777380300-1777383900@vmpa.camden.rutgers.edu
SUMMARY:From Golden Age to Today: Broadway by Decade
DESCRIPTION:Directed by Prof. Soyeon Bin\nRutgers Concert Choir \nWe are pleased to announce a performance featuring an array of Broadway music from several iconic musicals\, which include Can-Can (1953)\, Man of La Mancha (1965)\, Chicago (1975)\, Les Misérables (1980)\, Ragtime (1996)\, Wicked (2003)\, Hamilton (2015)\, and Dear Evan Hansen (2016).
URL:https://vmpa.camden.rutgers.edu/event/from-golden-age-to-today-broadway-by-decade/
LOCATION:Walter K. Gordon Theater\, 314 Linden Street\, Camden\, NJ\, 08102\, United States
CATEGORIES:Concert
END:VEVENT
BEGIN:VEVENT
DTSTART;TZID=America/New_York:20260428T183000
DTEND;TZID=America/New_York:20260428T193000
DTSTAMP:20260421T234239
CREATED:20260225T153614Z
LAST-MODIFIED:20260225T153614Z
UID:163437-1777401000-1777404600@vmpa.camden.rutgers.edu
SUMMARY:From Golden Age to Today: Broadway by Decade
DESCRIPTION:Directed by Prof. Soyeon Bin\nRutgers Concert Choir \nWe are pleased to announce a performance featuring an array of Broadway music from several iconic musicals\, which include Can-Can (1953)\, Man of La Mancha (1965)\, Chicago (1975)\, Les Misérables (1980)\, Ragtime (1996)\, Wicked (2003)\, Hamilton (2015)\, and Dear Evan Hansen (2016).
URL:https://vmpa.camden.rutgers.edu/event/from-golden-age-to-today-broadway-by-decade-2/
LOCATION:Walter K. Gordon Theater\, 314 Linden Street\, Camden\, NJ\, 08102\, United States
CATEGORIES:Concert
END:VEVENT
BEGIN:VEVENT
DTSTART;TZID=America/New_York:20260429T190000
DTEND;TZID=America/New_York:20260429T200000
DTSTAMP:20260421T234239
CREATED:20260225T153321Z
LAST-MODIFIED:20260326T125923Z
UID:163433-1777489200-1777492800@vmpa.camden.rutgers.edu
SUMMARY:Younger Than Springtime
DESCRIPTION:Directed by Dr. Julianne Baird\nSinging for the Stage \nMusic from Classic Broadway\, such as Sweeney Todd\, Beetlejuice\, and pop favorites.
URL:https://vmpa.camden.rutgers.edu/event/younger-than-age/
LOCATION:Mallery Room\, FA-224\, 314 Linden Street\, Camden\, 08102\, United States
CATEGORIES:Concert
END:VEVENT
END:VCALENDAR